BEGIN:VCALENDAR
VERSION:2.0
PRODID:-//TYPO3/NONSGML News system (news)//EN
BEGIN:VEVENT
UID:news-136046@theol.uni-graz.at
DTSTAMP:20260422T071348Z
DTSTART:20260505T080000Z
DTEND:20260505T093000Z
SUMMARY:Gastvortrag zum Thema: &quot;25 Jahre Menschenrechtsstadt Graz&quot;
END:VEVENT
END:VCALENDAR
