BEGIN:VCALENDAR
VERSION:2.0
PRODID:-//TYPO3/NONSGML News system (news)//EN
BEGIN:VEVENT
UID:news-135762@theol.uni-graz.at
DTSTAMP:20260423T092900Z
DTSTART:20260521T160000Z
DTEND:20260521T180000Z
SUMMARY:SHAKE UP THEO

DESCRIPTION:Get-together und Sommerfest der Katholisch-Theologischen Fakultät
END:VEVENT
END:VCALENDAR
